BEGIN:VCALENDAR
VERSION:2.0
PRODID:-//Center for Spiritual Living Palm Springs - ECPv6.15.20//NONSGML v1.0//EN
CALSCALE:GREGORIAN
METHOD:PUBLISH
X-WR-CALNAME:Center for Spiritual Living Palm Springs
X-ORIGINAL-URL:https://cslps.org
X-WR-CALDESC:Events for Center for Spiritual Living Palm Springs
REFRESH-INTERVAL;VALUE=DURATION:PT1H
X-Robots-Tag:noindex
X-PUBLISHED-TTL:PT1H
BEGIN:VTIMEZONE
TZID:UTC
BEGIN:STANDARD
TZOFFSETFROM:+0000
TZOFFSETTO:+0000
TZNAME:UTC
DTSTART:20250101T000000
END:STANDARD
END:VTIMEZONE
BEGIN:VEVENT
DTSTART;TZID=UTC:20260508T143000
DTEND;TZID=UTC:20260508T170000
DTSTAMP:20260425T071914
CREATED:20240221T120644Z
LAST-MODIFIED:20260419T003602Z
UID:10000246-1778250600-1778259600@cslps.org
SUMMARY:Women’s Empowerment Circle Monthly Check In
DESCRIPTION:Friday\, May 8\, 2026 2:30pm CSLPS Chapel \nPlease join us for our monthly check in and learn how we all found our way to CSLPS as we discuss our Spiritual Journeys.  Look forward to seeing you there!! \n\nContact Thea Brigham or Debbie Blair for more information.
URL:https://cslps.org/event/cslps-womens-empowerment-circle-friday-march-8-2024-230-4pm/
LOCATION:Center for Spiritual Living Palm Springs\, 2100 Racquet Club Dr\, PS\, CA\, 92264\, United States
CATEGORIES:Center for Spiritual Living Palm Springs
ATTACH;FMTTYPE=image/jpeg:https://cslps.org/wp-content/uploads/2025/01/11.jpg
END:VEVENT
END:VCALENDAR