BEGIN:VCALENDAR
VERSION:2.0
PRODID:-//Center for Spiritual Living Palm Springs - ECPv6.15.20//NONSGML v1.0//EN
CALSCALE:GREGORIAN
METHOD:PUBLISH
X-ORIGINAL-URL:https://cslps.org
X-WR-CALDESC:Events for Center for Spiritual Living Palm Springs
REFRESH-INTERVAL;VALUE=DURATION:PT1H
X-Robots-Tag:noindex
X-PUBLISHED-TTL:PT1H
BEGIN:VTIMEZONE
TZID:America/Los_Angeles
BEGIN:DAYLIGHT
TZOFFSETFROM:-0800
TZOFFSETTO:-0700
TZNAME:PDT
DTSTART:20250309T100000
END:DAYLIGHT
BEGIN:STANDARD
TZOFFSETFROM:-0700
TZOFFSETTO:-0800
TZNAME:PST
DTSTART:20251102T090000
END:STANDARD
BEGIN:DAYLIGHT
TZOFFSETFROM:-0800
TZOFFSETTO:-0700
TZNAME:PDT
DTSTART:20260308T100000
END:DAYLIGHT
BEGIN:STANDARD
TZOFFSETFROM:-0700
TZOFFSETTO:-0800
TZNAME:PST
DTSTART:20261101T090000
END:STANDARD
BEGIN:DAYLIGHT
TZOFFSETFROM:-0800
TZOFFSETTO:-0700
TZNAME:PDT
DTSTART:20270314T100000
END:DAYLIGHT
BEGIN:STANDARD
TZOFFSETFROM:-0700
TZOFFSETTO:-0800
TZNAME:PST
DTSTART:20271107T090000
END:STANDARD
END:VTIMEZONE
BEGIN:VTIMEZONE
TZID:UTC
BEGIN:STANDARD
TZOFFSETFROM:+0000
TZOFFSETTO:+0000
TZNAME:UTC
DTSTART:20230101T000000
END:STANDARD
END:VTIMEZONE
BEGIN:VEVENT
DTSTART;TZID=America/Los_Angeles:20260422T160000
DTEND;TZID=America/Los_Angeles:20260422T170000
DTSTAMP:20260423T204229
CREATED:20260418T113850Z
LAST-MODIFIED:20260418T114059Z
UID:10000394-1776873600-1776877200@cslps.org
SUMMARY:Chair Yoga
DESCRIPTION:You don’t have to get on the floor to feel better in your body. \nChair Yoga with Belle is gentle\, supportive\, and surprisingly powerful.Improve mobility. Ease tension. Feel more at home in yourself. \nNo experience needed. Just show up. \nAbout Belle: \nBelle is a seasoned yoga instructor and former studio owner whose love for humanity shines through in everything she does. \nShe creates a welcoming\, grounded space where you can breathe\, soften\, and feel truly supported—exactly as you are.
URL:https://cslps.org/event/chair-yoga-2-2/
CATEGORIES:Yoga
ATTACH;FMTTYPE=image/jpeg:https://cslps.org/wp-content/uploads/2026/03/10.jpg
END:VEVENT
BEGIN:VEVENT
DTSTART;TZID=America/Los_Angeles:20260415T150000
DTEND;TZID=America/Los_Angeles:20260415T160000
DTSTAMP:20260423T204229
CREATED:20260401T025754Z
LAST-MODIFIED:20260401T030956Z
UID:10000392-1776265200-1776268800@cslps.org
SUMMARY:Chair Yoga
DESCRIPTION:You don’t have to get on the floor to feel better in your body. \nChair Yoga with Belle is gentle\, supportive\, and surprisingly powerful.Improve mobility. Ease tension. Feel more at home in yourself. \nNo experience needed. Just show up. \nAbout Belle: \nBelle is a seasoned yoga instructor and former studio owner whose love for humanity shines through in everything she does. \nShe creates a welcoming\, grounded space where you can breathe\, soften\, and feel truly supported—exactly as you are.
URL:https://cslps.org/event/chair-yoga-2/2026-04-15/
CATEGORIES:Yoga
ATTACH;FMTTYPE=image/jpeg:https://cslps.org/wp-content/uploads/2026/03/10.jpg
END:VEVENT
BEGIN:VEVENT
DTSTART;TZID=America/Los_Angeles:20260408T160000
DTEND;TZID=America/Los_Angeles:20260408T170000
DTSTAMP:20260423T204229
CREATED:20260401T025754Z
LAST-MODIFIED:20260401T030956Z
UID:10000391-1775664000-1775667600@cslps.org
SUMMARY:Chair Yoga
DESCRIPTION:You don’t have to get on the floor to feel better in your body. \nChair Yoga with Belle is gentle\, supportive\, and surprisingly powerful.Improve mobility. Ease tension. Feel more at home in yourself. \nNo experience needed. Just show up. \nAbout Belle: \nBelle is a seasoned yoga instructor and former studio owner whose love for humanity shines through in everything she does. \nShe creates a welcoming\, grounded space where you can breathe\, soften\, and feel truly supported—exactly as you are.
URL:https://cslps.org/event/chair-yoga-2/2026-04-08/
CATEGORIES:Yoga
ATTACH;FMTTYPE=image/jpeg:https://cslps.org/wp-content/uploads/2026/03/10.jpg
END:VEVENT
BEGIN:VEVENT
DTSTART;TZID=America/Los_Angeles:20260401T150000
DTEND;TZID=America/Los_Angeles:20260401T160000
DTSTAMP:20260423T204229
CREATED:20260401T025754Z
LAST-MODIFIED:20260401T030956Z
UID:10000390-1775055600-1775059200@cslps.org
SUMMARY:Chair Yoga
DESCRIPTION:You don’t have to get on the floor to feel better in your body. \nChair Yoga with Belle is gentle\, supportive\, and surprisingly powerful.Improve mobility. Ease tension. Feel more at home in yourself. \nNo experience needed. Just show up. \nAbout Belle: \nBelle is a seasoned yoga instructor and former studio owner whose love for humanity shines through in everything she does. \nShe creates a welcoming\, grounded space where you can breathe\, soften\, and feel truly supported—exactly as you are.
URL:https://cslps.org/event/chair-yoga-2/2026-04-01/
CATEGORIES:Yoga
ATTACH;FMTTYPE=image/jpeg:https://cslps.org/wp-content/uploads/2026/03/10.jpg
END:VEVENT
BEGIN:VEVENT
DTSTART;TZID=America/Los_Angeles:20260311T160000
DTEND;TZID=America/Los_Angeles:20260311T170000
DTSTAMP:20260423T204229
CREATED:20250212T120021Z
LAST-MODIFIED:20260318T013049Z
UID:10000290-1773244800-1773248400@cslps.org
SUMMARY:Chair Yoga with Belle and Kundalini Yoga with Rev Mark - Feb 18 4PM - love offering
DESCRIPTION:Yoga with Mark and Belle:\n Kundalini Yoga with Rev. Mark &  Chair Yoga with Belle\nBelle will now be doing chair yoga on the second and fourth Wednesdays of the month from 4-5 pm\, and Rev. Mark Accomando will be hosting Kundalini Yoga on the first and third Wednesdays of the month from 4-5 pm. \nSuggested Love Donation: $15 (No one is turned away) \nCome stretch\, breathe\, and move in harmony. Bring a friend and experience the joy of yoga in a welcoming and uplifting space! \nNo registration required— drop ins welcome.
URL:https://cslps.org/event/chair-yoga/
LOCATION:Center for Spiritual Living Palm Springs\, 2100 Racquet Club Dr\, PS\, CA\, 92264\, United States
CATEGORIES:Yoga
ATTACH;FMTTYPE=image/png:https://cslps.org/wp-content/uploads/2025/02/Jump-Start-2026-8.png
END:VEVENT
BEGIN:VEVENT
DTSTART;TZID=UTC:20240930T100000
DTEND;TZID=UTC:20250129T110000
DTSTAMP:20260423T204229
CREATED:20220923T031103Z
LAST-MODIFIED:20250129T220611Z
UID:10000122-1727690400-1738148400@cslps.org
SUMMARY:Gentle Yoga with Belle   Every Monday 10am
DESCRIPTION:  \nHey there\, yogis! ???? Looking for a little serenity in your week? Join Belle at Gentle Yoga every Monday at 10:00AM. It’s all about finding tranquility and relieving stress in a way that suits your pace. Suited for all levels\, join us for an hour of pure bliss and mindful movement. Plus\, your $15 love offering helps keep this rejuvenating experience going strong. Let’s find that inner serenity together! \n  \n 
URL:https://cslps.org/event/yoga-with-belle-monday-930-begins-october-3/
LOCATION:Center for Spiritual Living Palm Springs\, 2100 Racquet Club Dr\, PS\, CA\, 92264\, United States
CATEGORIES:Center for Spiritual Living Palm Springs,Yoga
ATTACH;FMTTYPE=image/png:https://cslps.org/wp-content/uploads/2022/09/1.png
END:VEVENT
END:VCALENDAR