BEGIN:VCALENDAR
VERSION:2.0
PRODID:-//Center for Spiritual Living Palm Springs - ECPv6.15.20//NONSGML v1.0//EN
CALSCALE:GREGORIAN
METHOD:PUBLISH
X-WR-CALNAME:Center for Spiritual Living Palm Springs
X-ORIGINAL-URL:https://cslps.org
X-WR-CALDESC:Events for Center for Spiritual Living Palm Springs
REFRESH-INTERVAL;VALUE=DURATION:PT1H
X-Robots-Tag:noindex
X-PUBLISHED-TTL:PT1H
BEGIN:VTIMEZONE
TZID:UTC
BEGIN:STANDARD
TZOFFSETFROM:+0000
TZOFFSETTO:+0000
TZNAME:UTC
DTSTART:20250101T000000
END:STANDARD
END:VTIMEZONE
BEGIN:VEVENT
DTSTART;TZID=UTC:20260321T090000
DTEND;TZID=UTC:20260321T100000
DTSTAMP:20260421T014711
CREATED:20250612T032710Z
LAST-MODIFIED:20260306T190107Z
UID:10000298-1774083600-1774087200@cslps.org
SUMMARY:Rev Mark - Kundalini Yoga - Sat March 21st  9 am   $20 Suggested Fee
DESCRIPTION:Kundalini Yoga & Sound Healing Fusion \nActivate Your Power Centers \na beginner friendly Kundalini Yoga class \n$20 (Debit/Credit cards are welcome) \n(no one is turned away who is experiencing lack of funds) \nWhat to Expect: \n\nBalance you Polarities\nGuided pranayama breathwork\nDynamic Kundalini Kriyas\nChakra alignment & energy activation\nDeep rest through vibrational sound healing\nA sacred space to embody and ignite your light.\nBeginner friendly and it mostly seated\n\n  \nBenefits \n\nBreath-work experiences but in an easy\, manageable way\nFocus on the central channel and heart chakras\nShort sweet simple chanting practice\nImmune boosting\nSome challenge but worth it to move stagnation into flow state.\n\nRecommended for: \n\nBeginners\nThose looking for a sweeter experience that is still profound.\n\nThrough ancient Kundalini kriyas\, asanas\, breathwork\, and movement\, we’ll activate the body’s energetic system\, clear stagnant blocks\, and elevate consciousness. You’ll be guided through intentional practices to awaken Prana (life force energy)\, open the heart\, and restore balance in the Central Channels chakra system. \nAfter the yoga Kriya’s we will complete your journey with a peaceful and calming 30 minute restorative Savasana including vibrational sound bath\, featuring gongs\, Tibetan singing bowls\, Native American Flute\, soothing Hang Drum and meditation. The weaving of the many ancient sounds and healing frequencies harmonize your nervous system and deepen your connection an deep inner sense of peace. \nThis event is open to beginners and all levels\, so come as you are\, and leave feeling grounded\, luminous\, and empowered. \nMake sure to bring your mat and cushion and comfortable yoga clothing. \n\n\n\n\n\n\n\nAny questions? \nEmail: Mark Accomando at EvokePeace1@gmail.com \nwww.EvokePeaceNow.com \n \n\n\n\n\n\n\n\n\n\n\n\n\n\n\nSTAY CONNECTED
URL:https://cslps.org/event/summer-solstice-awakening-a-kundalini-yoga-sound-healing-fusion-june-21st-2025-830-10am/
LOCATION:Center for Spiritual Living Palm Springs\, 2100 Racquet Club Dr\, PS\, CA\, 92264\, United States
CATEGORIES:Yoga
ATTACH;FMTTYPE=image/jpeg:https://cslps.org/wp-content/uploads/2025/06/Jump-Start-2026-2.jpg
END:VEVENT
END:VCALENDAR