BEGIN:VCALENDAR
VERSION:2.0
PRODID:-//Center for Spiritual Living Palm Springs - ECPv6.15.20//NONSGML v1.0//EN
CALSCALE:GREGORIAN
METHOD:PUBLISH
X-ORIGINAL-URL:https://cslps.org
X-WR-CALDESC:Events for Center for Spiritual Living Palm Springs
REFRESH-INTERVAL;VALUE=DURATION:PT1H
X-Robots-Tag:noindex
X-PUBLISHED-TTL:PT1H
BEGIN:VTIMEZONE
TZID:UTC
BEGIN:STANDARD
TZOFFSETFROM:+0000
TZOFFSETTO:+0000
TZNAME:UTC
DTSTART:20230101T000000
END:STANDARD
END:VTIMEZONE
BEGIN:VEVENT
DTSTART;VALUE=DATE:20240311
DTEND;VALUE=DATE:20240901
DTSTAMP:20260420T210151
CREATED:20240311T104239Z
LAST-MODIFIED:20240311T104419Z
UID:10000252-1710115200-1725148799@cslps.org
SUMMARY:Divine Dining & Destinations
DESCRIPTION:???? Host Volunteers: \n\nHave you ever wanted to host a memorable meal\, activity\, or event? Now’s your chance!\nChoose your preferred date and number of guests to host\, either alone or with co-hosts.\nYour event can take place at your home or any other location of your choice.\nYou’ll cover all expenses and make preparations for the event.\nTo participate\, fill out an event form and return it to the CSLPS office by March 24th.\nHosting events will take place from April 19th to August 31st\, 2024.\n\n???? Bidding and Sign-ups: \n\nJoin in the excitement as the CSLPS Congregation/Community bids for seats at desired events.\nBid for seats over three consecutive Sundays: March 31st\, April 7th\, and April 14th.\nSign-up sheets for all events will be available on the resource table at the back of the sanctuary.\nBid for as many events as you’d like to attend!\nPayment will be due three weeks after the close of bidding\, on May 5th.\nRemember\, this is a FUNdraiser! If you win a bid but can’t attend\, consider gifting your spot to a friend.\n\n???? Ideas for Events: \n\nLet your imagination run wild! Plan hikes\, dinner parties\, BBQs\, tours of your favorite spots in Coachella Valley\, game nights\, croquet\, arts and crafts\, mornings of pickleball\, and more!\nMake your event unique and unforgettable\, and most importantly\, have fun!\n\nDon’t miss out on this incredible opportunity to create lasting memories and strengthen our community bonds. See you there! ???? \n\n\n\n\n\n 
URL:https://cslps.org/event/divine-dining-destinations/
LOCATION:Center for Spiritual Living Palm Springs\, 2100 Racquet Club Dr\, PS\, CA\, 92264\, United States
CATEGORIES:Center for Spiritual Living Palm Springs
ATTACH;FMTTYPE=image/png:https://cslps.org/wp-content/uploads/2024/03/divinedining.png
END:VEVENT
END:VCALENDAR